Workbook

Sheet ББ_МСФО
A1: Приложение 1
A2: к Правилам представления финансовой
A3: отчетности финансовыми организациями
A4: Ф1
A6: Отчет о финансовом положении
A7: АО "Евразийский Капитал"
A8: по состоянию на 30 сентября 2026 года
A10: (в тысячах теңге)
A11: Наименование статьи | B11: 30 сентября 2026 года | C11: 31 декабря 2025 года
A12: 1 | B12: 2 | C12: 3
A13: Активы
A14: Денежные средства и их эквиваленты | B14: 1836536 | C14: 198807
A15: Не обремененные инвестиционные ценные бумаги:
A16: -оцениваемые по справедливой стоимости через прочий совокупный доход | B16: 2077451 | C16: 2671151
A17: -оцениваемые по справедливой стоимости через прибыль или убыток за период | B17: 539631 | C17: 428507
A18: Обремененные инвестиционные ценные бумаги:
A19: -оцениваемые по справедливой стоимости через прочий совокупный доход | B19: 1021085 | C19: 12821
A20: -оцениваемые по справедливой стоимости через прибыль или убыток за период | B20: 0 | C20: 0
A21: Основные средства и нематериальные активы | B21: 77046 | C21: 51029
A22: Отложенный налоговый актив | B22: 6902 | C22: 6902
A23: Прочие активы | B23: 143804 | C23: 114538
A24: Всего активов | B24: =SUM(B14:B23) -> 5702455 | C24: =SUM(C14:C23) -> 3483755
A25: Обязательства
A26: Текущее налоговое обязательство | B26: 2421 | C26: 128361
A27: Кредиторская задолженность по сделкам «репо» | B27: 1012294 | C27: 13154
A28: Прочие обязательства | B28: 215056 | C28: 96914
A29: Всего обязательств | B29: =SUM(B26:B28) -> 1229771 | C29: =SUM(C26:C28) -> 238429
A30: Собственный капитал
A31: Акционерный капитал | B31: 1956560 | C31: 1956560
A32: Резерв изменения справедливой стоимости и прочие резервы | B32: -87510 | C32: -127077
A33: Нераспределенная прибыль | B33: 2603634 | C33: 1415843
A34: Всего собственного капитала | B34: =SUM(B31:B33) -> 4472684 | C34: =SUM(C31:C33) -> 3245326
A35: Всего обязательств и собственного капитала | B35: =B29+B34 -> 5702455 | C35: =C29+C34 -> 3483755
A37: Наименование: АО "Евразийский Капитал"
A38: Адрес: A05D7G5, г. Алматы, ул. Желтоксан 59 оф.412
A39: Телефон: +7 (727) 259-76-77, 244-99-90
A40: Адрес электронной почты: info@ecap.kz
A42: Исполнитель: Каташева А.И. ____________ | B42: 2597677
A43: фамилия, имя и отчество (при его наличии), подпись | B43: телефон
A45: Главный бухгалтер: Каташева А.И. _____________ | B45: 2597677
...

Sheet ОПиУ_МСФО
A1: Приложение 2
A2: к Правилам представления финансовой
A3: отчетности финансовыми организациями
A4: Ф2
A6: Отчет о прибылях и убытках и отчет о совокупном доходе
A7: АО "Евразийский Капитал"
A8: за девять месяцев, закончившихся 30 сентября 2026 года
A10: (в тысячах теңге)
A11: Наименование статьи | B11: за девять месяцев, закончившихся 30 сентября 2026 года | C11: за девять месяцев, закончившихся 30 сентября 2025 года
A12: 1 | B12: 2 | C12: 3
A13: Комиссионные доходы | B13: 1816114 | C13: 1041643
A14: Комиссионные расходы | B14: -372847 | C14: -11100
A15: Чистый комиссионный доход | B15: =B13+B14 -> 1443267 | C15: =C13+C14 -> 1030543
A16: Процентные доходы, рассчитанные с использованием метода эффективной процентной ставки | B16: 362422 | C16: 284109
A17: Процентные расходы | B17: -33777 | C17: -50181
A18: Чистый доход от операций с инвестиционными ценными бумагами | B18: 144929 | C18: 41538
A19: Доход от дивидендов | B19: 31759 | C19: 8697
A20: (Убыток)/восстановление от обесценения | B20: -864 | C20: -1879
A21: Общие и административные расходы | B21: -688407 | C21: -593765
A22: Чистый убыток/(прибыль) от курсовой переоценки финансовых активов и обязательств, выраженных в иностранной валюте | B22: -69824 | C22: -6325
A23: Прочие доходы/(расходы), нетто | B23: -1369 | C23: 6026
A24: Прибыль до налогообложения | B24: =SUM(B15:B23) -> 1188136 | C24: =SUM(C15:C23) -> 718763
A25: Расход по подоходному налогу | B25: -345 | C25: -559
A26: Прибыль за год | B26: =SUM(B24:B25) -> 1187791 | C26: =SUM(C24:C25) -> 718204
A27: Прочий совокупный доход
A28: Статьи, которые реклассифицированы или могут быть впоследствии реклассифицированы в состав прибыли или убытка:
A29: Резерв изменений справедливой стоимости (долговые инструменты):
A30: - чистое изменение справедливой стоимости | B30: 39567 | C30: -85723
A31: Всего статей, которые реклассифицированы или могут быть впоследствии реклассифицированы в состав прибыли или убытка | B31: =B30 -> 39567 | C31: =C30 -> -85723
A32: Прочий совокупный доход/(убыток) за год, за вычетом подоходного налога | B32: =B31 -> 39567 | C32: =C31 -> -85723
A33: Общий совокупный доход за год | B33: =B26+B32 -> 1227358 | C33: =C26+C32 -> 632481
A35: Наименование: АО "Евразийский Капитал"
A36: Адрес: A05D7G5, г. Алматы, ул. Желтоксан 59 оф.412
A37: Телефон: +7 (727) 259-76-77, 244-99-90
A38: Адрес электронной почты: info@ecap.kz
A40: Исполнитель: Каташева А.И. ____________ | B40: 2597677
A41: фамилия, имя и отчество (при его наличии), подпись | B41: телефон
A43: Главный бухгалтер: Каташева А.И. _____________ | B43: 2597677
A44: фамилия, имя, отчество (при его наличии), подпись | B44: телефон
A45: Руководитель или лицо, исполняющее его обязанности: Айтқожа А.А. ______________ | B45: 244-99-90
...

Sheet ОДДС
C1: Приложение 3
C2: к Правилам представления финансовой
C3: отчетности финансовыми организациями
C4: Ф3
A5: Отчет о движении денежных средств
A6: АО "Евразийский Капитал"
A7: =ОПиУ_МСФО!A8 -> за девять месяцев, закончившихся 30 сентября 2026 года
C9: (в тысячах теңге)
A10: Наименование статей | B10: =ОПиУ_МСФО!B11 -> за девять месяцев, закончившихся 30 сентября 2026 года | C10: =ОПиУ_МСФО!C11 -> за девять месяцев, закончившихся 30 сентября 2025 года
A11: 1 | B11: 2 | C11: 2
A12: ДВИЖЕНИЕ ДЕНЕЖНЫХ СРЕДСТВ ОТ ОПЕРАЦИОННОЙ ДЕЯТЕЛЬНОСТИ
A13: Прибыль за год | B13: =ОПиУ_МСФО!B26 -> 1187791 | C13: 718204
A14: Корректировки:
A15: Износ и амортизация | B15: 6943 | C15: 5014
A16: Начисление/(восстановление) резерва под убытки от обесценения | B16: =-ОПиУ_МСФО!B20 -> 864 | C16: 1879
A17: Начисление/(восстановление) резерва по отпускам и премиям сотрудникам | B17: 88164 | C17: -13592
A18: Процентные доходы | B18: =-ОПиУ_МСФО!B16 -> -362422 | C18: -284109
A19: Процентные расходы | B19: =-ОПиУ_МСФО!B17 -> 33777 | C19: 50181
A20: Чистый убыток от курсовой переоценки финансовых активов и обязательств, выраженных в иностранной валюте | B20: =-ОПиУ_МСФО!B22 -> 69824 | C20: 6325
A21: Чистый нереализованный (доход)/убыток от изменения стоимости финансовых активов, оцениваемых по справедливой стоимости, изменения которой отражаются в составе прибыли или убытка | B21: -37629 | C21: -1297
A22: Расход по подоходному налогу | B22: =-ОПиУ_МСФО!B25 -> 345 | C22: 559
A23: (Увеличение)/уменьшение операционных активов
A24: Финансовые активы, оцениваемые по справедливой стоимости, изменения которой отражаются в составе прочего совокупного дохода | B24: -437688 | C24: 248575
A25: Финансовые активы, оцениваемые по справедливой стоимости, изменения которой отражаются в составе прибыли или убытка | B25: -79815 | C25: 19905
A26: Прочие активы | B26: -29266 | C26: -8584
A27: Увеличение/(уменьшение) операционных обязательств
A28: Кредиторская задолженность по сделкам «репо» | B28: 1017789 | C28: -2051438
A29: Прочие обязательства | B29: 29978 | C29: -1239
A30: Чистое поступление/(использование) денежных средств от/(в) операционной деятельности до уплаты подоходного налога и вознаграждения полученного | B30: =SUM(B13:B29) -> 1488655 | C30: -1309617
A31: Подоходный налог уплаченный | B31: -127846 | C31: -56542
A32: Дивиденды полученные | B32: =31759-39 -> 31720 | C32: 9533
A33: Процентные доходы полученные | B33: =305740+27+5965+205+1775 -> 313712 | C33: 283245
A34: Вознаграждение уплаченное | B34: -33694 | C34: -52177
A35: Чистое поступление/(использование) денежных средств от/(в) операционной деятельности | B35: =SUM(B30:B34) -> 1672547 | C35: -1125558
A37: ДВИЖЕНИЕ ДЕНЕЖНЫХ СРЕДСТВ ОТ ИНВЕСТИЦИОННОЙ ДЕЯТЕЛЬНОСТИ
A38: Приобретения основных средств и нематериальных активов | B38: -26017 | C38: -29233
A39: Продажа основных средств и нематериальных активов | B39: 0 | C39: 7913
A40: Чистое использование денежных средств в инвестиционной деятельности | B40: =B38+B39 -> -26017 | C40: -21320
A42: ДВИЖЕНИЕ ДЕНЕЖНЫХ СРЕДСТВ ОТ ФИНАНСОВОЙ ДЕЯТЕЛЬНОСТИ
A43: Поступления от выпуска акций | B43: 0 | C43: 0
...

Sheet СК
F1: Приложение 4
A2: к Правилам представления финансовой
A3: отчетности финансовыми организациями
F4: Ф4
A5: Отчет об изменениях в капитале
A6: АО "Евразийский Капитал"
A7: =ОПиУ_МСФО!A8 -> за девять месяцев, закончившихся 30 сентября 2026 года
F8: ( в тысячах теңге)
A9: Наименование статей | B9: Акционерный капитал | C9: Резерв изменения справедливой стоимости | D9: Прочие резервы | E9: Нераспределенная прибыль (убыток) | F9: Всего собственного капитала
A10: 1 | B10: 2 | C10: 3 | D10: 4 | E10: 5 | F10: 6
A11: Остаток на 1 января 2025 года | B11: 1956560 | C11: -51158 | D11: 0 | E11: 1008470 | F11: 2913872
A12: Общий совокупный доход
A13: Прибыль за год | E13: 686275 | F13: =SUM(B13:E13) -> 686275
A14: Прочий совокупный доход
A15: Резерв изменений справедливой стоимости (долговые инструменты):
A16: Чистое изменение справедливой стоимости | C16: -75919 | F16: =SUM(B16:E16) -> -75919
A17: Всего прочего совокупного дохода | C17: =C16 -> -75919 | F17: =SUM(B17:E17) -> -75919
A18: Общий совокупный доход за год | C18: =C17 -> -75919 | E18: =E13 -> 686275 | F18: =SUM(B18:E18) -> 610356
A19: Выпуск акций
A20: Дивиденды объявленные | E20: -278902
A21: Остаток на 31 декабря 2025 года | B21: =B11+B18+B19+B20 -> 1956560 | C21: =C11+C18+C19+C20 -> -127077 | D21: =D11+D18+D19+D20 -> 0 | E21: =E11+E18+E19+E20 -> 1415843 | F21: =SUM(B21:E21) -> 3245326
A22: Остаток на 1 января 2026 года | B22: =B21 -> 1956560 | C22: =C21 -> -127077 | D22: =D21 -> 0 | E22: =E21 -> 1415843 | F22: =SUM(B22:E22) -> 3245326
A23: Общий совокупный доход
A24: Прибыль за год | E24: =ОПиУ_МСФО!B26 -> 1187791 | F24: =SUM(B24:E24) -> 1187791
A25: Прочий совокупный доход
A26: Резерв изменений справедливой стоимости(долговые инструменты):
A27: Чистое изменение справедливой стоимости | C27: =ОПиУ_МСФО!B30 -> 39567 | F27: =SUM(B27:E27) -> 39567
A28: Всего прочего совокупного дохода | C28: =C27 -> 39567 | F28: =SUM(B28:E28) -> 39567
A29: Общий совокупный доход за год | C29: =C28 -> 39567 | E29: =E24 -> 1187791 | F29: =SUM(B29:E29) -> 1227358
A30: Операции с собственниками, отраженные непосредственно в составе собственного капитала
A31: Выпуск акций | B31: 0 | F31: =SUM(B31:E31) -> 0
A32: Дивиденды объявленные | E32: 0 | F32: =SUM(B32:E32) -> 0
A33: Остаток на 30 июня 2026 года | B33: =SUM(B22+B29+B31+B32) -> 1956560 | C33: =SUM(C22+C29+C31+C32) -> -87510 | D33: =SUM(D22+D29+D31+D32) -> 0 | E33: =SUM(E22+E29+E31+E32) -> 2603634 | F33: =SUM(F22+F29+F31+F32) -> 4472684
B34: =B33=ББ_МСФО!B29 -> FALSE | D34: =D33=ББ_МСФО!B33 -> FALSE | E34: =E33=ББ_МСФО!#REF! -> #REF! | F34: =F33=#REF!+#REF! -> #REF!
A36: Наименование: АО "Евразийский Капитал"
A37: Адрес: A05D7G5, г. Алматы, ул. Желтоксан 59 оф.412
A38: Телефон: +7 (727) 259-76-77, 244-99-90
A39: Адрес электронной почты: info@ecap.kz
A41: Исполнитель: Каташева А.И. ____________ | D41: 2597677
A42: фамилия, имя и отчество (при его наличии), подпись | D42: телефон
...
