Workbook
Name BalanceSheet: BS!$B$9
Name CashFlows: CFS!$B$8
Name OLE_LINK10: CFS!$D$32
Name OLE_LINK16: BS!$D$44
Name OLE_LINK17: BS!#REF!
Name OLE_LINK5: PL!#REF!
Name OLE_LINK6: PL!$E$14
Name OLE_LINK7: PL!$E$25

Sheet PL
E1: АО «ForteBank»
E2: Промежуточный сокращенный консолидированный отчет о совокупном доходе за шестимесячный период,
E3: завершившийся 30 июня 2026 года
E4: В миллионах тенге
D6: За шестимесячный период, завершившийся 30 июня 2026 года | E6: За шестимесячный период, завершившийся 30 июня 2025 года
C7: Прим. | D7: (не аудировано) | E7: (аудировано)
B8: Процентная выручка, рассчитанная с использованием эффективной процентной ставки | C8: 5 | D8: 494906 | E8: 297408
B9: Прочая процентная выручка | C9: 5 | D9: 6442 | E9: 4071
B10: Процентные расходы | C10: 5 | D10: -293040 | E10: -157982
B11: Чистый процентный доход | D11: =SUM(D8:D10) -> 208308 | E11: =SUM(E8:E10) -> 143497
B14: Комиссионные доходы | D14: 22955 | E14: 17405
B15: Комиссионные расходы | D15: -15896 | E15: -8314
B16: Чистый убыток по операциям с финансовыми инструментами, оцениваемым по справедливой стоимости через прибыль или убыток | C16: 6 | D16: -30328 | E16: -12454
B17: Чистый доход в результате прекращения признания инвестиционных ценных бумаг, оцениваемых по справедливой стоимости через прочий совокупный доход | D17: 8 | E17: 7
B18: Чистый доход по операциям с иностранной валютой | C18: 7 | D18: 31623 | E18: 16511
B19: Дивиденды полученные | D19: 510 | E19: 85
B20: Прочие доходы | D20: 3772 | E20: 4767
B21: Непроцентные доходы | D21: =SUM(D14:D20) -> 12644 | E21: =SUM(E14:E20) -> 18007
B23: Расходы по кредитным убыткам | C23: 8 | D23: -50335 | E23: -2344
B24: Чистый доход от прекращения признания финансовых активов, оцениваемых по амортизированной стоимости | D24: 302 | E24: 1290
B25: Общие и административные расходы | C25: 9 | D25: -80339 | E25: -44968
B26: Прочие расходы | D26: -12047 | E26: -6660
B27: Непроцентные расходы | D27: =SUM(D23:D26) -> -142419 | E27: =SUM(E23:E26) -> -52682
B29: Прибыль до расходов по корпоративному подоходному налогу | D29: =D11+D21+D27 -> 78533 | E29: =E11+E21+E27 -> 108822
B30: Расходы по корпоративному подоходному налогу | C30: 10 | D30: -13950 | E30: -8815
B31: Прибыль за отчетный период | D31: =SUM(D29:D30) -> 64583 | E31: =SUM(E29:E30) -> 100007
B33: Прочий совокупный доход
B34: Прочий совокупный доход/(убыток), подлежащий реклассификации в состав прибыли или убытка в последующих периодах
B35: - Чистая величина изменения справедливой стоимости долговых инструментов, оцениваемых по справедливой стоимости через прочий совокупный доход | D35: 7843 | E35: -79177
B36: - Величина изменения оценочного резерва под ожидаемые кредитные убытки по долговым инструментам, оцениваемым по справедливой стоимости через прочий совокупный доход | C36: 8 | D36: -98 | E36: -484
B37: - Налог на прибыль, относящийся к компонентам прочего совокупного дохода | D37: -173 | E37: -142
B38: - Сумма, реклассифицированная в состав прибыли или убытка в результате прекращения признания долговых инструментов, оцениваемых по справедливой стоимости через прочий совокупный доход | D38: -8 | E38: -7
B39: Чистый прочий совокупный доход/(убыток), подлежащий реклассификации в состав прибыли или убытка в последующих периодах | D39: =SUM(D35:D38) -> 7564 | E39: =SUM(E35:E38) -> -79810
B41: Прочий совокупный убыток, не подлежащий реклассификации в состав прибыли или убытка в последующих периодах
B42: Доход / (убыток) по долевым инструментам, оцениваемым по справедливой стоимости через прочий совокупный доход | D42: 11 | E42: -16
B43: Итого прочий совокупный доход/ (убыток), не подлежащий реклассификации в состав прибыли или убытка в последующих периодах | D43: =SUM(D42) -> 11 | E43: =SUM(E42) -> -16
B44: Прочий совокупный доход/ (убыток) за отчетный период, за вычетом налогов | D44: =SUM(D39:D42) -> 7575 | E44: =SUM(E39:E42) -> -79826
B45: Итого совокупный доход/ (убыток) за отчетный период | D45: =D31+D44 -> 72158 | E45: =E31+E44 -> 20181
B47: Базовая и разводненная прибыль на простую акцию (в тенге) | C47: 22 | D47: 0.7 | E47: 1.1
B51: ___________________________________________ | D51: _________________________________________
...

Sheet BS
E1: АО «ForteBank»
E2: Промежуточный сокращенный консолидированный отчет о финансовом положении по состоянию на 30 июня 2026 года
E4: В миллионах тенге
D7: 30 июня 2026 года | E7: 31 декабря 2025 года
C8: Прим. | D8: (не аудировано) | E8: (аудировано)
B9: Активы
B10: Денежные средства и их эквиваленты | C10: 11 | D10: 917730 | E10: 1142339
B11: Средства в финансовых организациях | C11: 12 | D11: 85843 | E11: 71934
B12: Ценные бумаги, учитываемые по справедливой стоимости через прибыль или убыток | D12: 28344 | E12: 5732
B13: Кредиты, выданные клиентам | C13: 13 | D13: 3866996 | E13: 3686772
B14: Инвестиционные ценные бумаги:
B15: Находящиеся в собственности Группы | C15: 14 | D15: 952236 | E15: 918396
B16: Обремененные залогом по сделке "РЕПО" | C16: 14 | D16: 133340 | E16: 66546
B17: Основные средства | D17: 81711 | E17: 86737
B18: Нематериальные активы | D18: 46454 | E18: 43314
B19: Активы, предназначенные для продажи | C19: 15 | D19: 49205 | E19: 0
B20: Гудвилл | C20: 4 | D20: 26364 | E20: 26364
B21: Прочие активы | D21: 55000 | E21: 53993
B22: Итого активов | D22: =SUM(D10:D21) -> 6243223 | E22: =SUM(E10:E21) -> 6102127
B25: Обязательства
B26: Текущие счета и депозиты клиентов | C26: 16 | D26: 4269173 | E26: 4292728
B27: Депозитные сертификаты | C27: 17 | D27: 115335 | E27: 106122
B28: Средства банков и прочих финансовых организаций | C28: 18 | D28: 217542 | E28: 331812
B29: Кредиторская задолженность по договорам «репо» | C29: 19 | D29: 132926 | E29: 64781
B30: Выпущенные долговые ценные бумаги | C30: 20 | D30: 520766 | E30: 443087
B31: Субординированный долг | D31: 10549 | E31: 11529
B32: Обязательства, непосредственно связанные с активами, предназначенными для продажи | C32: 15 | D32: 6068 | E32: 0
B33: Отложенные налоговые обязательства | D33: 5613 | E33: 3117
B34: Прочие обязательства | D34: 81112 | E34: 74088
B35: Итого обязательств | D35: =SUM(D26:D34) -> 5359084 | E35: =SUM(E26:E34) -> 5327264
B37: Капитал
B38: Акционерный капитал | C38: 21 | D38: 378933 | E38: 332815
B39: Дополнительный оплаченный капитал | D39: 31978 | E39: 31334
B40: Бессрочные облигации добавочного капитала первого уровня | D40: 209586 | E40: 209586
B41: Собственные выкупленные акции | C41: 21 | D41: -315 | E41: -315
B42: Резерв справедливой стоимости | D42: -46702 | E42: -54277
B43: Нераспределенная прибыль | D43: 310659 | E43: 255720
B44: Итого капитала | D44: =SUM(D38:D43) -> 884139 | E44: =SUM(E38:E43) -> 774863
B45: Итого капитала и обязательств | D45: =D35+OLE_LINK16 -> 6243223 | E45: =E35+E44 -> 6102127
F62: стр 2 из 4
...

Sheet CFS
E1: АО «ForteBank»
E2: Промежуточный сокращенный консолидированный отчет о движении денежных средств за шестимесячный период,
E3: завершившийся 30 июня 2026 года
E4: В миллионах тенге
D6: За шестимесячный период, завершившийся 30 июня 2026 года | E6: За шестимесячный период, завершившийся 30 июня 2025 года
C7: Прим. | D7: (не аудировано) | E7: (аудировано)
B8: Движение денежных средств от операционной деятельности
B9: Процентные доходы полученные | C9: 5 | D9: 479371 | E9: 363589
B10: Процентные расходы выплаченные | C10: 5 | D10: -272185 | E10: -149174
B11: Комиссионные доходы полученные | D11: 23740 | E11: 17288
B12: Комиссионные расходы выплаченные | D12: -16800 | E12: -8342
B13: Чистый реализованный расход по финансовым инструментам, оцениваемым по справедливой стоимости через прибыль или убыток | D13: -24956 | E13: -12325 | G13: Net realised gains/(losses) from financial instruments at fair value through profit or loss
B14: Чистый реализованный доход по операциям с иностранной валютой | C14: 7 | D14: 22991 | E14: 18212 | G14: Net realised gains on dealing in foreign currencies
B15: Прочие операционные доходы нетто, полученные/(выплаченные) | D15: 1303 | E15: 1643 | G15: Other operating expenses paid
B16: Дивиденды полученные | D16: 510 | E16: 85
B17: Общие и административные расходы выплаченные | D17: -64013 | E17: -37754 | G17: General and administrative expenses paid
B18: Денежные потоки от операционной деятельности до изменений в операционных активах и обязательствах | D18: =SUM(D9:D17) -> 149961 | E18: =SUM(E9:E17) -> 193222
B20: (Увеличение)/уменьшение операционных активов
B21: Средства в финансовых организациях | D21: -17304 | E21: -49210 | G21: Amounts due from financial institutions
B22: Ценные бумаги, оцениваемые по справедливой стоимости через прибыль или убыток | D22: -22694 | E22: 181
B23: Кредиты, выданные клиентам | D23: -270270 | E23: -932921
B24: Прочие активы | D24: 6438 | E24: 1270 | G24: Other assets
B26: (Уменьшение)/увеличение операционных обязательств:
B27: Текущие счета и депозиты клиентов | D27: 27844 | E27: 218644 | G27: Current accounts and deposits of customers
B28: Депозитные сертификаты | D28: -805 | E28: 0
B29: Средства банков и прочих финансовых организаций, за исключением привлеченных займов не по государственным программам | D29: -8864 | E29: -2496 | G29: Amounts due to banks and other financial institutions
B30: Кредиторская задолженность по договорам «репо» | D30: 67994 | E30: -26017 | G30: Amounts payable under repurchase agreements
B31: Прочие обязательства | D31: -1431 | E31: 3564 | G31: Other liabilities
B32: Чистое расходование денежных средств в операционной деятельности до уплаты корпоративного подоходного налога | D32: =SUM(D18:D31) -> -69131 | E32: =SUM(E18:E31) -> -593763
B34: Корпоративный подоходный налог уплаченный | D34: -23198 | E34: -10093 | G34: Corporate income tax paid
B35: Чистое расходование денежных средств в операционной деятельности | D35: =SUM(D32:D34) -> -92329 | E35: =SUM(E32:E34) -> -603856
B37: Денежные потоки от инвестиционной деятельности
B38: Приобретение инвестиционных ценных бумаг, оцениваемых по справедливой стоимости через прочий совокупный доход | D38: -474955 | E38: -279029 | G38: Purchase of investment securities at fair value through other comprehensive income
B39: Поступления от продажи инвестиционных ценных бумаг, оцениваемых по справедливой стоимости через прочий совокупный доход | D39: 5366 | E39: 55985
B40: Поступления от погашения инвестиционных ценных бумаг, оцениваемых по справедливой стоимости через прочий совокупный доход | D40: 347190 | E40: 120651 | G40: Redemption of investment securities at fair value through other comprehensive income
B41: Приобретение инвестиционных ценных бумаг, оцениваемых по амортизированной стоимости | D41: -3783 | E41: 0
B42: Поступления от погашения инвестиционных ценных бумаг, оцениваемых по амортизированной стоимости | D42: 990 | E42: 0
B43: Приобретение основных средств и нематериальных активов | D43: -10034 | E43: -12023 | G43: Purchase of property and equipment and intangible assets
B44: Поступления от продажи основных средств и нематериальных активов | D44: 7 | E44: 1
B45: Чистое расходование денежных средств в инвестиционной деятельности | D45: =SUM(D38:D44) -> -135219 | E45: =SUM(E38:E44) -> -114415
...

Sheet SCE_2кв. 2026
I3: АО «ForteBank»
I4: Промежуточный сокращенный консолидированный отчет об изменениях в капитале за шестимесячный период,завершившийся 30 июня 2026 года
I6: В миллионах тенге
C10: Капитал, причитающийся акционерам Банка
C11: Акционерный капитал | D11: Дополни-тельный оплаченный капитал | E11: Собственные выкупленные акции | F11: Резерв справедливой стоимости | G11: Нераспределен-ная прибыль | H11: Бессрочные облигации добавочного капитала первого уровня | I11: Итого
B13: На 1 января 2026 года | C13: 332815 | D13: 31334 | E13: -315 | F13: -54277 | G13: 255720 | H13: 209586 | I13: =SUM(C13:H13) -> 774863
B15: Прибыль за отчетный период (неаудировано) | C15: 0 | D15: 0 | E15: 0 | F15: 0 | G15: 64583 | H15: 0 | I15: =SUM(C15:H15) -> 64583 | L15: =PL!D31-G15 -> 0
B16: Прочий совокупный доход, не подлежащий реклассификации в состав прибыли или убытка в последующих периодах (неаудировано) | C16: 0 | D16: 0 | E16: 0 | F16: 11 | G16: 0 | H16: 0 | I16: =SUM(C16:H16) -> 11 | L16: =PL!D42-F16 -> 0
B17: Прочий совокупный доход, подлежащий реклассификации в состав прибыли или убытка в последующих периодах (неаудировано) | C17: 0 | D17: 0 | E17: 0 | F17: 7564 | G17: 0 | H17: 0 | I17: =SUM(C17:H17) -> 7564 | L17: =PL!D39-F17 -> 0
B18: Итого совокупный доход за период (неаудировано) | C18: =SUM(C15:C17) -> 0 | D18: =SUM(D15:D17) -> 0 | E18: =SUM(E15:E17) -> 0 | F18: =SUM(F15:F17) -> 7575 | G18: =SUM(G15:G17) -> 64583 | H18: 0 | I18: =SUM(C18:H18) -> 72158
B20: Выплата вознаграждения по бессрочным субординированным облигациям добавочного капитала первого уровня (Примечание 21) (неаудировано) | G20: -9000 | I20: =SUM(C20:H20) -> -9000
B21: Взнос в акционерный капитал (Примечание 21) (неаудировано) | C21: 46118 | I21: =SUM(C21:H21) -> 46118
B22: Прочие вклады (неаудировано) | D22: 644 | G22: -644 | I22: =SUM(C22:H22) -> 0
B23: На 30 июня 2026 года (неаудировано) | C23: =SUM(C18:C22)+SUM(C13) -> 378933 | D23: =SUM(D18:D22)+SUM(D13) -> 31978 | E23: =SUM(E18:E22)+SUM(E13) -> -315 | F23: =SUM(F18:F22)+SUM(F13) -> -46702 | G23: =SUM(G18:G22)+SUM(G13) -> 310659 | H23: =SUM(H18:H22)+SUM(H13) -> 209586 | I23: =SUM(C23:H23) -> 884139 | L23: =BS!OLE_LINK16-I23 -> 0
C28: Капитал, причитающийся акционерам Банка
C29: Акционерный капитал | D29: Дополни-тельный оплаченный капитал | E29: Собственные выкупленные акции | F29: Резерв справедливой стоимости | G29: Нераспределен-ная прибыль | H29: Итого капитала
B31: На 1 января 2025 года | C31: 332815 | D31: 23651 | E31: -3465 | F31: 30201 | G31: 184982 | H31: =SUM(C31:G31) -> 568184
B33: Прибыль за отчетный период | C33: 0 | D33: 0 | E33: 0 | F33: 0 | G33: 100007 | H33: =SUM(C33:G33) -> 100007 | L33: =PL!E31-G33 -> 0
B34: Прочий совокупный доход, не подлежащий реклассификации в состав прибыли или убытка в последующих периодах (неаудировано) | C34: 0 | D34: 0 | E34: 0 | F34: -16 | G34: 0 | H34: =SUM(C34:G34) -> -16 | L34: =PL!E42-F34 -> 0
B35: Прочий совокупный доход, подлежащий реклассификации в состав прибыли или убытка в последующих периодах (неаудировано) | C35: 0 | D35: 0 | E35: 0 | F35: -79810 | G35: 0 | H35: =SUM(C35:G35) -> -79810 | L35: =PL!E39-F35 -> 0
B36: Итого совокупный(убыток)/доход за период | C36: =SUM(C33:C35) -> 0 | D36: =SUM(D33:D35) -> 0 | E36: =SUM(E33:E35) -> 0 | F36: =SUM(F33:F35) -> -79826 | G36: =SUM(G33:G35) -> 100007 | H36: =SUM(H33:H35) -> 20181
B38: Дивиденды объявленные (Примечание 21) | G38: -101996 | H38: =SUM(C38:G38) -> -101996
B39: Продажа ранее выкупленных акций (Примечание 21) | C39: 0 | D39: 7683 | E39: 3150 | F39: 0 | G39: 0 | H39: =SUM(C39:G39) -> 10833
B40: На 30 июня 2025 года (аудировано) | C40: =C31+C36+C39 -> 332815 | D40: =D31+D36+D39 -> 31334 | E40: =E31+E36+E39 -> -315 | F40: =F31+F36+F39 -> -49625 | G40: =G31+G36+G38 -> 182993 | H40: =H31+H36+H39+H38 -> 497202
H43: стр 4 из 4
